BEGIN:VCALENDAR
VERSION:2.0
PRODID:-//Feeling Canin - ECPv6.15.16//NONSGML v1.0//EN
CALSCALE:GREGORIAN
METHOD:PUBLISH
X-ORIGINAL-URL:https://www.feelingcanin.fr
X-WR-CALDESC:Évènements pour Feeling Canin
REFRESH-INTERVAL;VALUE=DURATION:PT1H
X-Robots-Tag:noindex
X-PUBLISHED-TTL:PT1H
BEGIN:VTIMEZONE
TZID:Europe/Paris
BEGIN:DAYLIGHT
TZOFFSETFROM:+0100
TZOFFSETTO:+0200
TZNAME:CEST
DTSTART:20230326T010000
END:DAYLIGHT
BEGIN:STANDARD
TZOFFSETFROM:+0200
TZOFFSETTO:+0100
TZNAME:CET
DTSTART:20231029T010000
END:STANDARD
BEGIN:DAYLIGHT
TZOFFSETFROM:+0100
TZOFFSETTO:+0200
TZNAME:CEST
DTSTART:20240331T010000
END:DAYLIGHT
BEGIN:STANDARD
TZOFFSETFROM:+0200
TZOFFSETTO:+0100
TZNAME:CET
DTSTART:20241027T010000
END:STANDARD
BEGIN:DAYLIGHT
TZOFFSETFROM:+0100
TZOFFSETTO:+0200
TZNAME:CEST
DTSTART:20250330T010000
END:DAYLIGHT
BEGIN:STANDARD
TZOFFSETFROM:+0200
TZOFFSETTO:+0100
TZNAME:CET
DTSTART:20251026T010000
END:STANDARD
END:VTIMEZONE
BEGIN:VEVENT
DTSTART;TZID=Europe/Paris:20240615T153000
DTEND;TZID=Europe/Paris:20240615T163000
DTSTAMP:20260422T173942
CREATED:20240613T111859Z
LAST-MODIFIED:20240613T111903Z
UID:981-1718465400-1718469000@www.feelingcanin.fr
SUMMARY:Balade collective éducative
DESCRIPTION:Thème de la balade :  Les rencontres congénères & les signaux de communication canineDate: Le samedi 15 juin 2024Lieu: Castelnau d’EstretefondTarif : 15€Durée : 1h/1h30Nb de participants : 3 à 8 \n\n\n\nBienvenue chez Feeling Canin\, où chaque balade devient une aventure éducative pour vous et votre fidèle compagnon ! Rejoignez-nous pour nos balades canines éducatives et collectives\, organisées avec passion par Camille\, notre experte en éducation canine. \n\n\n\nLire les signaux de communication et comprendre les interactions canines est crucial pour le bien-être des chiens et la prévention des comportements problématiques. Observer les mouvements de la queue\, les postures et les expressions faciales permet de répondre adéquatement aux besoins des chiens. Apprendre à adopter les bons réflexes lors de rencontres canines aide à éviter les malentendus\, à renforcer le lien avec son animal et à prévenir les conflits entre chiens. \n\n\n\nPlongez dans l’univers unique de Feeling Canin\, où l’apprentissage se mêle à la joie de la balade. Camille\, notre éducatrice canine dévouée\, guidera chaque pas\, offrant des conseils pratiques et des astuces pour renforcer votre lien avec votre compagnon à quatre pattes. \n\n\n\nQue vous soyez novice dans l’éducation canine ou que vous recherchiez de nouvelles perspectives\, nos balades offrent une expérience enrichissante pour tous. Rencontrez d’autres amoureux des chiens\, partagez des moments complices\, et découvrez les secrets d’une relation harmonieuse avec votre chien. \n\n\n\nRejoignez la communauté Feeling Canin et transformez chaque balade en une leçon d’amour et de complicité. Inscrivez-vous dès maintenant et faites de chaque moment partagé avec votre chien une expérience inoubliable. \n\n\n\nFeeling Canin\, où le plaisir de la balade rencontre l’éducation bienveillante.  \n\n\n\nRéservez vite votre place auprès de Camille\, Contact : \n\n\n\nTel : 07 66 56 46 87camille.feelingcanin31@gmail.comCamille Guidoux – Feeling Canin sur FB
URL:https://www.feelingcanin.fr/evenement/balade-collective-educative-6/
LOCATION:Haute-Garonne
CATEGORIES:Balade collective éducative
ATTACH;FMTTYPE=image/jpeg:https://www.feelingcanin.fr/wp-content/uploads/2024/05/445746473_997071279087125_3413344725409700427_n-min.jpg
END:VEVENT
BEGIN:VEVENT
DTSTART;TZID=Europe/Paris:20240601T153000
DTEND;TZID=Europe/Paris:20240601T163000
DTSTAMP:20260422T173942
CREATED:20240528T090157Z
LAST-MODIFIED:20240528T090307Z
UID:967-1717255800-1717259400@www.feelingcanin.fr
SUMMARY:Balade collective éducative
DESCRIPTION:Thème de la balade : Combler les besoins de son chienDate: Le samedi 01 juin 2024Lieu: CastelginestTarif : 15€Durée : 1h/1h30Nb de participants : 3 à 8 \n\n\n\n Bienvenue chez Feeling Canin\, où chaque balade devient une aventure éducative pour vous et votre fidèle compagnon ! Rejoignez-nous pour nos balades canines éducatives et collectives\, organisées avec passion par Camille\, notre experte en éducation canine. \n\n\n\nCombler les 5 dépenses du chien – physiques\, masticatoires\, mentales\, olfactives et sociales – est essentiel pour son équilibre. Cela inclut l’exercice\, des activités mentales stimulantes\, les interactions sociales et des jeux olfactifs. En répondant à ces besoins\, on assure à son chien une vie épanouie et heureuse. \n\n\n\nPlongez dans l’univers unique de Feeling Canin\, où l’apprentissage se mêle à la joie de la balade. Camille\, notre éducatrice canine dévouée\, guidera chaque pas\, offrant des conseils pratiques et des astuces pour renforcer votre lien avec votre compagnon à quatre pattes. \n\n\n\nQue vous soyez novice dans l’éducation canine ou que vous recherchiez de nouvelles perspectives\, nos balades offrent une expérience enrichissante pour tous. Rencontrez d’autres amoureux des chiens\, partagez des moments complices\, et découvrez les secrets d’une relation harmonieuse avec votre chien. \n\n\n\nRejoignez la communauté Feeling Canin et transformez chaque balade en une leçon d’amour et de complicité. Inscrivez-vous dès maintenant et faites de chaque moment partagé avec votre chien une expérience inoubliable. \n\n\n\nFeeling Canin\, où le plaisir de la balade rencontre l’éducation bienveillante. \n\n\n\nRéservez vite votre place auprès de Camille\, Contact : \n\n\n\n07 66 56 46 87camille.feelingcanin31@gmail.comCamille Guidoux – Feeling Canin sur FB
URL:https://www.feelingcanin.fr/evenement/balade-collective-educative-5/
LOCATION:Haute-Garonne
CATEGORIES:Balade collective éducative
ATTACH;FMTTYPE=image/jpeg:https://www.feelingcanin.fr/wp-content/uploads/2024/05/445746473_997071279087125_3413344725409700427_n-min.jpg
END:VEVENT
BEGIN:VEVENT
DTSTART;TZID=Europe/Paris:20240601T100000
DTEND;TZID=Europe/Paris:20240601T110000
DTSTAMP:20260422T173942
CREATED:20240528T084430Z
LAST-MODIFIED:20240528T084436Z
UID:960-1717236000-1717239600@www.feelingcanin.fr
SUMMARY:Balade collective éducative
DESCRIPTION:Thème de la balade : Posture & IntonationDate: Le samedi 01 Juin 2024Lieu: FenouilletTarif : 15€Durée : 1h/1h30Nb de participants : 3 à 8 \n\n\n\nBienvenue chez Feeling Canin\, où chaque balade devient une aventure éducative pour vous et votre fidèle compagnon ! Rejoignez-nous pour nos balades canines éducatives et collectives\, organisées avec passion par Camille\, notre experte en éducation canine. \n\n\n\nLa posture et les intonations sont la clé de la communication avec les chiens. Une attitude ouverte et des tonalités positives renforcent la confiance et favorisent une relation harmonieuse\, tandis qu’une attitude menaçante peut générer de l’anxiété et de la méfiance. En bref\, notre langage corporel et vocal influence profondément nos interactions avec nos compagnons canins. \n\n\n\nPlongez dans l’univers unique de Feeling Canin\, où l’apprentissage se mêle à la joie de la balade. Camille\, notre éducatrice canine dévouée\, guidera chaque pas\, offrant des conseils pratiques et des astuces pour renforcer votre lien avec votre compagnon à quatre pattes. \n\n\n\nQue vous soyez novice dans l’éducation canine ou que vous recherchiez de nouvelles perspectives\, nos balades offrent une expérience enrichissante pour tous. Rencontrez d’autres amoureux des chiens\, partagez des moments complices\, et découvrez les secrets d’une relation harmonieuse avec votre chien. \n\n\n\nRejoignez la communauté Feeling Canin et transformez chaque balade en une leçon d’amour et de complicité. Inscrivez-vous dès maintenant et faites de chaque moment partagé avec votre chien une expérience inoubliable. \n\n\n\nFeeling Canin\, où le plaisir de la balade rencontre l’éducation bienveillante. \n\n\n\nRéservez vite votre place auprès de Camille\, Contact : \n\n\n\n 07 66 56 46 87 camille.feelingcanin31@gmail.com Camille Guidoux – Feeling Canin sur FB
URL:https://www.feelingcanin.fr/evenement/balade-collective-educative-4/
LOCATION:Haute-Garonne
CATEGORIES:Balade collective éducative
ATTACH;FMTTYPE=image/jpeg:https://www.feelingcanin.fr/wp-content/uploads/2024/05/445746473_997071279087125_3413344725409700427_n-min.jpg
END:VEVENT
BEGIN:VEVENT
DTSTART;TZID=Europe/Paris:20240525T153000
DTEND;TZID=Europe/Paris:20240525T163000
DTSTAMP:20260422T173942
CREATED:20240513T122833Z
LAST-MODIFIED:20240513T125306Z
UID:953-1716651000-1716654600@www.feelingcanin.fr
SUMMARY:Balade collective éducative
DESCRIPTION:Balade collective éducative\n\n\n\nThème de la balade : Se promener en foretDate: Le samedi 25 mai 2024Lieu: FenouilletTarif : 15€Durée : 1h/1h30Nb de participants : 3 à 8 \n\n\n\nBienvenue chez Feeling Canin\, où chaque balade devient une aventure éducative pour vous et votre fidèle compagnon ! Rejoignez-nous pour nos balades canines éducatives et collectives\, organisées avec passion par Camille\, notre experte en éducation canine. \n\n\n\nPlongez dans l’univers unique de Feeling Canin\, où l’apprentissage se mêle à la joie de la balade. Camille\, notre éducatrice canine dévouée\, guidera chaque pas\, offrant des conseils pratiques et des astuces pour renforcer votre lien avec votre compagnon à quatre pattes. \n\n\n\nQue vous soyez novice dans l’éducation canine ou que vous recherchiez de nouvelles perspectives\, nos balades offrent une expérience enrichissante pour tous. Rencontrez d’autres amoureux des chiens\, partagez des moments complices\, et découvrez les secrets d’une relation harmonieuse avec votre chien. \n\n\n\nRejoignez la communauté Feeling Canin et transformez chaque balade en une leçon d’amour et de complicité. Inscrivez-vous dès maintenant et faites de chaque moment partagé avec votre chien une expérience inoubliable. \n\n\n\nFeeling Canin\, où le plaisir de la balade rencontre l’éducation bienveillante. \n\n\n\nRéservez vite votre place auprès de Camille\, Contact : \n\n\n\n 07 66 56 46 87 camille.feelingcanin31@gmail.com Camille Guidoux – Feeling Canin sur FB
URL:https://www.feelingcanin.fr/evenement/balade-collective-educative-3/
LOCATION:Haute-Garonne
CATEGORIES:Balade collective éducative
END:VEVENT
BEGIN:VEVENT
DTSTART;TZID=Europe/Paris:20240525T100000
DTEND;TZID=Europe/Paris:20240525T110000
DTSTAMP:20260422T173942
CREATED:20240513T121245Z
LAST-MODIFIED:20240513T124250Z
UID:949-1716631200-1716634800@www.feelingcanin.fr
SUMMARY:Balade collective éducative
DESCRIPTION:Balade collective éducative\n\n\n\nThème de la balade : Combler les besoins de son chienDate: Le samedi 25 mai 2024Lieu: L’unionTarif : 15€Durée : 1h/1h30Nb de participants : 3 à 8 \n\n\n\nBienvenue chez Feeling Canin\, où chaque balade devient une aventure éducative pour vous et votre fidèle compagnon ! Rejoignez-nous pour nos balades canines éducatives et collectives\, organisées avec passion par Camille\, notre experte en éducation canine. \n\n\n\nCombler les 5 dépenses du chien – physiques\, masticatoires\, mentales\, olfactives et sociales – est essentiel pour son équilibre. Cela inclut l’exercice\, des activités mentales stimulantes\, les interactions sociales et des jeux olfactifs. En répondant à ces besoins\, on assure à son chien une vie épanouie et heureuse. \n\n\n\nPlongez dans l’univers unique de Feeling Canin\, où l’apprentissage se mêle à la joie de la balade. Camille\, notre éducatrice canine dévouée\, guidera chaque pas\, offrant des conseils pratiques et des astuces pour renforcer votre lien avec votre compagnon à quatre pattes. \n\n\n\nQue vous soyez novice dans l’éducation canine ou que vous recherchiez de nouvelles perspectives\, nos balades offrent une expérience enrichissante pour tous. Rencontrez d’autres amoureux des chiens\, partagez des moments complices\, et découvrez les secrets d’une relation harmonieuse avec votre chien. \n\n\n\nRejoignez la communauté Feeling Canin et transformez chaque balade en une leçon d’amour et de complicité. Inscrivez-vous dès maintenant et faites de chaque moment partagé avec votre chien une expérience inoubliable. \n\n\n\nFeeling Canin\, où le plaisir de la balade rencontre l’éducation bienveillante. \n\n\n\nRéservez vite votre place auprès de Camille\, Contact : \n\n\n\n 07 66 56 46 87 camille.feelingcanin31@gmail.com Camille Guidoux – Feeling Canin sur FB
URL:https://www.feelingcanin.fr/evenement/balade-collective-educative-2/
LOCATION:Haute-Garonne
CATEGORIES:Balade collective éducative
END:VEVENT
END:VCALENDAR